BEGIN:VCALENDAR
VERSION:2.0
PRODID:-//wp-events-plugin.com//7.2.2.1//EN
TZID:America/New_York
X-WR-TIMEZONE:America/New_York
BEGIN:VEVENT
UID:118@business.camden.rutgers.edu
DTSTART;TZID=America/New_York:20211117T120000
DTEND;TZID=America/New_York:20211117T133000
DTSTAMP:20211108T150806Z
URL:https://business.camden.rutgers.edu/events/business-student-faculty-mi
 xer/
SUMMARY:Business Student-Faculty Mixer (In-Person)
DESCRIPTION:Networking Opportunity!\n\nSchool of Business Student-Faculty M
 ixer\nWednesday\, Nov 17\n12:00PM - 1:30PM\nCampus Center - South ABC Conf
 erence Room\n\nFood and refreshments will be served.\nWin a Starbucks gift
  card!\n\nRegistration link: https://go.rutgers.edu/lu9q0vzt\n\nWhy attend
  the Student-Faculty Evening Mixer?\n\n 	Relationship Building: Professor
 s come specifically to chat with YOU!\n 	Opportunities: Getting to know y
 our professors can lead to better outcomes in and outside of class.\n 	Net
 work: increasing network can increase your net worth!"What's your professo
 r's most embarrassing moment?"\n"What have you been listening to lately?"\
 n"Who's an inspiring person in your life?"\n
ATTACH;FMTTYPE=image/jpeg:https://business.camden.rutgers.edu/wp-content/u
 ploads/2021/11/Faculty-Student-Mixer-in-person-3.png
CATEGORIES:Academic Services,Bachelor of Science,Dual Degree
 BS-BA/MBA,Dual Degree BS/Online MAcc,Graduate School,MBA,Off-Campus
 BBA,Online BBA,Online MAcc,Online MBA,Undergraduate
END:VEVENT
BEGIN:VTIMEZONE
TZID:America/New_York
X-LIC-LOCATION:America/New_York
BEGIN:STANDARD
DTSTART:20211107T010000
TZOFFSETFROM:-0400
TZOFFSETTO:-0500
TZNAME:EST
END:STANDARD
END:VTIMEZONE
END:VCALENDAR