BEGIN:VCALENDAR
VERSION:2.0
PRODID:-//wp-events-plugin.com//7.2.2.1//EN
TZID:America/New_York
X-WR-TIMEZONE:America/New_York
BEGIN:VEVENT
UID:117@business.camden.rutgers.edu
DTSTART;TZID=America/New_York:20211026T170000
DTEND;TZID=America/New_York:20211026T180000
DTSTAMP:20211025T132345Z
URL:https://business.camden.rutgers.edu/events/business-student-faculty-vi
 rtual-mixer/
SUMMARY:Business Student-Faculty Virtual Mixer
DESCRIPTION:Networking Opportunity!\n\nVirtual Student-Faculty Mixer\nTuesd
 ay\, Oct 26\n5-6PM\nRegistration link:  https://go.rutgers.edu/oyu5dwri\n
 \nWhy attend the Student-Faculty Evening Mixer?\n\n 	Relationship Buildin
 g: Professors come specifically to chat with YOU!\n 	Opportunities: Getti
 ng to know your professors can lead to better outcomes in and outside of c
 lass.\n 	Network: increasing network can increase your net worth!\n
ATTACH;FMTTYPE=image/jpeg:https://business.camden.rutgers.edu/wp-content/u
 ploads/2021/10/Student-Faculty-Mixer-gif.gif
CATEGORIES:Academic Services,Bachelor of Science,Dual Degree
 BS-BA/MBA,Dual Degree BS/Online MAcc,Graduate School,MBA,Off-Campus
 BBA,Online BBA,Online MAcc,Online MBA,Undergraduate
END:VEVENT
BEGIN:VTIMEZONE
TZID:America/New_York
X-LIC-LOCATION:America/New_York
BEGIN:DAYLIGHT
DTSTART:20210314T030000
TZOFFSETFROM:-0500
TZOFFSETTO:-0400
TZNAME:EDT
END:DAYLIGHT
END:VTIMEZONE
END:VCALENDAR