BEGIN:VCALENDAR
VERSION:2.0
PRODID:-//wp-events-plugin.com//7.2.2.1//EN
TZID:America/New_York
X-WR-TIMEZONE:America/New_York
BEGIN:VEVENT
UID:25@business.camden.rutgers.edu
DTSTART;TZID=America/New_York:20201020T123000
DTEND;TZID=America/New_York:20201020T134500
DTSTAMP:20201001T192733Z
URL:https://business.camden.rutgers.edu/events/entrepreneurship-symposium-
 workshops/
SUMMARY:Entrepreneurship Symposium: Small Business Basics
DESCRIPTION:-Welcome and RUSE overview with Associate Dean Dr. Oscar Holmes
  IV\n12:40pm: Concurrent Workshop 1: Startup Basics with the Small Busines
 s Development Center Bob Palumbo\n\n\n 	This program will review the basi
 c elements needed to start your new venture. What you need to know BEFORE 
 you open your doors to customers.\n 	Receive information about registratio
 ns\, licenses\, business structures and business plan development.\n\n12:4
 0pm: Concurrent Workshop 2: The Hidden Costs of Entrepreneurship with LAED
 A\n\n\n 	Emotional toll\, time invested\, commitment required\, sustainabl
 e efforts\, maintaining balance\n\nREGISTER HERE for Webinar link and more
  information\n\n\n\nvisit our website:  RSBC Entrepreneurship Symposium 
 2020
CATEGORIES:Bachelor of Science,MBA,Online BBA,Undergraduate
END:VEVENT
BEGIN:VTIMEZONE
TZID:America/New_York
X-LIC-LOCATION:America/New_York
BEGIN:DAYLIGHT
DTSTART:20200308T030000
TZOFFSETFROM:-0500
TZOFFSETTO:-0400
TZNAME:EDT
END:DAYLIGHT
END:VTIMEZONE
END:VCALENDAR