BEGIN:VCALENDAR
VERSION:2.0
PRODID:-//wp-events-plugin.com//7.2.2.1//EN
TZID:America/New_York
X-WR-TIMEZONE:America/New_York
BEGIN:VEVENT
UID:204@business.camden.rutgers.edu
DTSTART;TZID=America/New_York:20221017T143000
DTEND;TZID=America/New_York:20221017T153000
DTSTAMP:20221010T132343Z
URL:https://business.camden.rutgers.edu/events/entrepreneurship-week-2022-
 student-panel/
SUMMARY:Entrepreneurship Week 2022 - Student Panel
DESCRIPTION:ENTREPRENEUR PANEL\nDISCUSSIONS AND BUSINESS SHOWCASE EXPO\n2:3
 0 PM\nMPR (Multipurpose Room) in Campus Center\nStudent Entrepreneur Panel
 :\n• Jessica Butler\, Apparel\n• Eidie Dunston\, Wedding planning\n•
  Westly Mandoske\, HR/Accounting Consulting\n• Simon Lam\, Finance/Marke
 ting Consulting\n\n&nbsp\;\n\nRegister in Engage:\n\nhttps://engage.camden
 .rutgers.edu/event/8221926
CATEGORIES:Academic Services,Bachelor of Science,Undergraduate
END:VEVENT
BEGIN:VTIMEZONE
TZID:America/New_York
X-LIC-LOCATION:America/New_York
BEGIN:DAYLIGHT
DTSTART:20220313T030000
TZOFFSETFROM:-0500
TZOFFSETTO:-0400
TZNAME:EDT
END:DAYLIGHT
END:VTIMEZONE
END:VCALENDAR